BEGIN:VCALENDAR
VERSION:2.0
PRODID:icalendar-ruby
CALSCALE:GREGORIAN
X-WR-CALNAME:Anna Mateur
BEGIN:VTIMEZONE
TZID:Europe/Berlin
BEGIN:DAYLIGHT
DTSTART:20260329T030000
TZOFFSETFROM:+0100
TZOFFSETTO:+0200
RRULE:FREQ=YEARLY;BYDAY=-1SU;BYMONTH=3
TZNAME:CEST
END:DAYLIGHT
BEGIN:STANDARD
DTSTART:20261025T020000
TZOFFSETFROM:+0200
TZOFFSETTO:+0100
RRULE:FREQ=YEARLY;BYDAY=-1SU;BYMONTH=10
TZNAME:CET
END:STANDARD
END:VTIMEZONE
BEGIN:VEVENT
DTSTAMP:20260419T151705Z
UID:24867728-0fa3-44ba-9d49-47c1f5cae062
DTSTART;TZID=Europe/Berlin:20261210T193000
DTEND;TZID=Europe/Berlin:20261210T214500
DESCRIPTION:https://rampensau.de//kuenstlers/anna-mateur/programm/detail/10
 6?backPid=244&cHash=0a7dfa4f146bca0e0ba1a8991d19d3aa
LOCATION:Bad Saarow\, Theater am See
SUMMARY:\nIch fang erst an\, wenns groovt.
END:VEVENT
END:VCALENDAR
