BEGIN:VCALENDAR
VERSION:2.0
PRODID:icalendar-ruby
CALSCALE:GREGORIAN
X-WR-CALNAME:Anna Mateur
BEGIN:VTIMEZONE
TZID:Europe/Berlin
BEGIN:DAYLIGHT
DTSTART:20260329T030000
TZOFFSETFROM:+0100
TZOFFSETTO:+0200
RRULE:FREQ=YEARLY;BYDAY=-1SU;BYMONTH=3
TZNAME:CEST
END:DAYLIGHT
BEGIN:STANDARD
DTSTART:20261025T020000
TZOFFSETFROM:+0200
TZOFFSETTO:+0100
RRULE:FREQ=YEARLY;BYDAY=-1SU;BYMONTH=10
TZNAME:CET
END:STANDARD
END:VTIMEZONE
BEGIN:VEVENT
DTSTAMP:20260419T161705Z
UID:917b4550-66d3-4f48-b763-241d5b53701e
DTSTART;TZID=Europe/Berlin:20261212T200000
DTEND;TZID=Europe/Berlin:20261212T221500
DESCRIPTION:https://rampensau.de//kuenstlers/anna-mateur/programm/detail/10
 6?backPid=244&cHash=0a7dfa4f146bca0e0ba1a8991d19d3aa
LOCATION:Chemnitz\, Garagen-Campus
SUMMARY:\nIch fang erst an\, wenns groovt.
END:VEVENT
END:VCALENDAR
